BEGIN:VCALENDAR
VERSION:2.0
PRODID:EVENTFROG//EVENT//ICAL
BEGIN:VEVENT
UID:20260425T165951Z-7449748739114153109@eventfrog.de
DTSTAMP:20260425T165951Z
DTSTART:20260426T090000Z
DTEND:20260426T150000Z
SUMMARY:Freilassinger Autoshow 2026
DESCRIPTION:Am 26.4. zeigt die Autoshow von 11-17 Uhr neue Modelle, mit Kinderprogramm und verkaufsoffenem Sonntag in der Innenstadt.\n\nhttps://eventfrog.de/de/p/kunst-ausstellungen/ausstellung/freilassinger-autoshow-2026-7449748739114153109.html
LOCATION:Innenstadt Freilassing
GEO:47.838831;12.981784
URL:https://eventfrog.de/de/p/kunst-ausstellungen/ausstellung/freilassinger-autoshow-2026-7449748739114153109.html
END:VEVENT
END:VCALENDAR