BEGIN:VCALENDAR
VERSION:2.0
PRODID:EVENTFROG//EVENT//ICAL
BEGIN:VEVENT
UID:20260424T094035Z-7449755786169812305@eventfrog.de
DTSTAMP:20260424T094035Z
DTSTART:20260523T070000Z
DTEND:20260523T100000Z
SUMMARY:Austausch für Eltern und Angehörige zum Thema Essstörungen
DESCRIPTION:Einmal im Monat treffen sich Angehörige von Essstörung-Betroffenen in Winterthur zum vertraulichen Austausch mit Peer-Expertinnen.\n\nhttps://eventfrog.de/de/p/gesundheit-spiritualitaet/gesundheit-wohlbefinden/austausch-fuer-eltern-und-angehoerige-zum-thema-essstoerungen-7449755786169812305.html
LOCATION:Stiftung Windlicht
GEO:47.500218;8.732858
URL:https://eventfrog.de/de/p/gesundheit-spiritualitaet/gesundheit-wohlbefinden/austausch-fuer-eltern-und-angehoerige-zum-thema-essstoerungen-7449755786169812305.html
END:VEVENT
END:VCALENDAR