BEGIN:VCALENDAR
VERSION:2.0
PRODID:EVENTFROG//EVENT//ICAL
BEGIN:VEVENT
UID:20260425T004459Z-7449776636709371428@eventfrog.de
DTSTAMP:20260425T004459Z
DTSTART:20260425T150000Z
DTEND:20260425T190000Z
SUMMARY:Säntis-Ustrinkete
DESCRIPTION:Gemeinsam zelebrieren wir die letzten Tage vor dem Bahnunterbruch und verabschieden uns feierlich von unserer alten, ehrwürdigen Bahn.\n\n\nhttps://eventfrog.de/de/p/diverses/saentis-ustrinkete-7449776636709371428.html
LOCATION:Restaurant Säntisgipfel
GEO:47.257550;9.309121
URL:https://eventfrog.de/de/p/diverses/saentis-ustrinkete-7449776636709371428.html
END:VEVENT
END:VCALENDAR