BEGIN:VCALENDAR
VERSION:2.0
PRODID:EVENTFROG//EVENT//ICAL
BEGIN:VEVENT
UID:20260424T072346Z-7449785347473452611@eventfrog.de
DTSTAMP:20260424T072346Z
DTSTART:20270114T190000Z
SUMMARY:Claudio Zuccolini - Der Vorsorger (TRYOUT)
DESCRIPTION:Ein humorvolles und zugleich tiefgründiges Programm. Zucco zeigt sich so persönlich und ehrlich wie noch nie, mit viel Selbstironie und einem scharfen Blick auf den Alltag. \n\nhttps://eventfrog.de/de/p/theater-buehne/comedy-kabarett/claudio-zuccolini-der-vorsorger-tryout-7449785347473452611.html
LOCATION:Obere Mühle - Speicher
GEO:47.395078;8.623905
URL:https://eventfrog.de/de/p/theater-buehne/comedy-kabarett/claudio-zuccolini-der-vorsorger-tryout-7449785347473452611.html
END:VEVENT
END:VCALENDAR