BEGIN:VCALENDAR
VERSION:2.0
PRODID:EVENTFROG//EVENT//ICAL
BEGIN:VEVENT
UID:20260422T222018Z-7449803024791262878@eventfrog.de
DTSTAMP:20260422T222018Z
DTSTART:20260426T080000Z
DTEND:20260426T100000Z
SUMMARY:Malarathon 2026 - Benefizlauf gegen Malaria
DESCRIPTION:Am 26. April 2026 läufen wir im Kampf gegen Malaria in Kamerun; Startgebühr finanziert Moskitonetze; Distanzen von 500 m bis 10 km.\n\nhttps://eventfrog.de/de/p/sport-fitness/leichtathletik/malarathon-2026-benefizlauf-gegen-malaria-7449803024791262878.html
LOCATION:Tempelhofer Feld
GEO:52.474850;13.385841
URL:https://eventfrog.de/de/p/sport-fitness/leichtathletik/malarathon-2026-benefizlauf-gegen-malaria-7449803024791262878.html
END:VEVENT
END:VCALENDAR