BEGIN:VCALENDAR
VERSION:2.0
PRODID:EVENTFROG//EVENT//ICAL
BEGIN:VEVENT
UID:20260420T084837Z-7449808689974775571@eventfrog.de
DTSTAMP:20260420T084837Z
DTSTART:20260620T160000Z
DTEND:20260620T180000Z
SUMMARY:Eine Reise – von der Sehnsucht zur Erkenntnis
DESCRIPTION:Der Deutsch-Französische Chor Dresden bietet ein vielseitiges Sommerkonzert mit Werken von Mendelssohn bis Poulenc im Chinesischen Pavillon.\n\nhttps://eventfrog.de/de/p/konzerte/a-cappella-vocal/eine-reise-von-der-sehnsucht-zur-erkenntnis-7449808689974775571.html
LOCATION:Chinesischer Pavillon
GEO:51.063995;13.824064
URL:https://eventfrog.de/de/p/konzerte/a-cappella-vocal/eine-reise-von-der-sehnsucht-zur-erkenntnis-7449808689974775571.html
END:VEVENT
END:VCALENDAR