BEGIN:VCALENDAR
VERSION:2.0
PRODID:EVENTFROG//EVENT//ICAL
BEGIN:VEVENT
UID:20260421T101907Z-7449809149464981351@eventfrog.de
DTSTAMP:20260421T101907Z
DTSTART:20260423T170000Z
DTEND:20260423T190000Z
SUMMARY:Künstliche Intelligentz im Alltag
DESCRIPTION:Andreas Luce erklärt am 23.04. um 19 Uhr im Dorfgemeinschaftshaus Reifferscheid Chancen und Risiken der KI im Alltag.\n\nhttps://eventfrog.de/de/p/fuehrungen-vortraege/vortrag/kuenstliche-intelligentz-im-alltag-7449809149464981351.html
LOCATION:Dorfgemeinschaftshaus DGH Eifelblick
GEO:50.405478;6.884478
URL:https://eventfrog.de/de/p/fuehrungen-vortraege/vortrag/kuenstliche-intelligentz-im-alltag-7449809149464981351.html
END:VEVENT
END:VCALENDAR