BEGIN:VCALENDAR
VERSION:2.0
PRODID:EVENTFROG//EVENT//ICAL
BEGIN:VEVENT
UID:20260420T071830Z-7449814058373511567@eventfrog.de
DTSTAMP:20260420T071830Z
DTSTART:20260501T110000Z
DTEND:20260501T150000Z
SUMMARY:SOUNDWERKSTATT
DESCRIPTION:Jeden Freitag von 13 bis 17 Uhr bietet der Musikübungsraum im Kulturhaus Kindern und Jugendlichen von 8 bis 18 Jahren Raum zum Musizieren.\n\nhttps://eventfrog.de/de/p/kinderveranstaltungen/familienveranstaltungen/soundwerkstatt-7449814058373511567.html
LOCATION:Kulturhaus Milbertshofen
GEO:48.182056;11.567207
URL:https://eventfrog.de/de/p/kinderveranstaltungen/familienveranstaltungen/soundwerkstatt-7449814058373511567.html
END:VEVENT
END:VCALENDAR