BEGIN:VCALENDAR
VERSION:2.0
PRODID:EVENTFROG//EVENT//ICAL
BEGIN:VEVENT
UID:20260420T071832Z-7449814515594610325@eventfrog.de
DTSTAMP:20260420T071832Z
DTSTART:20260515T110000Z
DTEND:20260515T150000Z
SUMMARY:SOUNDWERKSTATT
DESCRIPTION:Jeden Freitag von 13 bis 17 Uhr bietet der Musikübungsraum im Kulturhaus Kindern und Jugendlichen von 8 bis 18 Jahren Raum zum Musizieren.\n\nhttps://eventfrog.de/de/p/kinderveranstaltungen/familienveranstaltungen/soundwerkstatt-7449814515594610325.html
LOCATION:Kulturhaus Milbertshofen
GEO:48.182056;11.567207
URL:https://eventfrog.de/de/p/kinderveranstaltungen/familienveranstaltungen/soundwerkstatt-7449814515594610325.html
END:VEVENT
END:VCALENDAR