BEGIN:VCALENDAR
VERSION:2.0
PRODID:EVENTFROG//EVENT//ICAL
BEGIN:VEVENT
UID:20260424T105820Z-7449816718828917168@eventfrog.de
DTSTAMP:20260424T105820Z
DTSTART:20261104T150000Z
DTEND:20261104T173000Z
SUMMARY:ALS Training - Praktisches Training zur Reanimation Erw.
DESCRIPTION:Interne Fortbildung zu erweiterten Reanimationsmaßnahmen im Klinikum Konstanz für Pflegekräfte und Ärzte verschiedener Abteilungen. Anerkannter Praxisteil der Pflichtfortbildung Reanimation.\n\nhttps://eventfrog.de/de/p/kurse-seminare/berufliche-bildung/als-training-praktisches-training-zur-reanimation-erw-7449816718828917168.html
LOCATION:Konstanzer anästhesiologisches Simulations- und Trainingszentrum (KNaST) Raum B218, im Bereich der ehemaligen ZNA ; Treffpunkt ist die Eingangshalle im Bestandsbau - Klinikum Konstanz
GEO:47.670205;9.187133
URL:https://eventfrog.de/de/p/kurse-seminare/berufliche-bildung/als-training-praktisches-training-zur-reanimation-erw-7449816718828917168.html
END:VEVENT
END:VCALENDAR