BEGIN:VCALENDAR
VERSION:2.0
PRODID:EVENTFROG//EVENT//ICAL
BEGIN:VEVENT
UID:20260420T193644Z-7449828002370746835@eventfrog.de
DTSTAMP:20260420T193644Z
DTSTART:20260513T173000Z
DTEND:20260513T200000Z
SUMMARY:Lina Lärche & Gerd Normann - Herzrasen
DESCRIPTION:Musikcomedy & Kabarett\n\nhttps://eventfrog.de/de/p/theater-buehne/comedy-kabarett/lina-laerche-gerd-normann-herzrasen-7449828002370746835.html
LOCATION:Showfenster Theater
GEO:52.563428;13.377549
URL:https://eventfrog.de/de/p/theater-buehne/comedy-kabarett/lina-laerche-gerd-normann-herzrasen-7449828002370746835.html
END:VEVENT
END:VCALENDAR