BEGIN:VCALENDAR
VERSION:2.0
PRODID:EVENTFROG//EVENT//ICAL
BEGIN:VEVENT
UID:20260420T002234Z-7449940987571347523@eventfrog.de
DTSTAMP:20260420T002234Z
DTSTART:20260507T220000Z
SUMMARY:Santa Discoteca
DESCRIPTION:Italo, Funk & Disco.\n\nhttps://eventfrog.de/de/p/partys/santa-discoteca-7449940987571347523.html
LOCATION:Palace
GEO:47.426620;9.373120
URL:https://eventfrog.de/de/p/partys/santa-discoteca-7449940987571347523.html
END:VEVENT
END:VCALENDAR