BEGIN:VCALENDAR
VERSION:2.0
PRODID:EVENTFROG//EVENT//ICAL
BEGIN:VEVENT
UID:20260419T143141Z-7450096155474544699@eventfrog.de
DTSTAMP:20260419T143141Z
DTSTART:20260508T160000Z
DTEND:20260508T200000Z
SUMMARY:Magisches Dinner in Neckargemünd mit 6-Gang-Thai-Menü
DESCRIPTION:Magier Maximus serviert ein thailändisches 6-Gänge-Menü mit Close-Up-Zaubershow im Hotel Kredell in Neckargemünd.\n\nhttps://eventfrog.de/de/p/essen-trinken/magisches-dinner-in-neckargemuend-mit-6-gang-thai-menue-7450096155474544699.html
LOCATION:Hotel Kredell
GEO:49.394919;8.797396
URL:https://eventfrog.de/de/p/essen-trinken/magisches-dinner-in-neckargemuend-mit-6-gang-thai-menue-7450096155474544699.html
END:VEVENT
END:VCALENDAR