BEGIN:VCALENDAR
VERSION:2.0
PRODID:EVENTFROG//EVENT//ICAL
BEGIN:VEVENT
UID:20260426T022411Z-7450102583530627444@eventfrog.de
DTSTAMP:20260426T022411Z
DTSTART:20260504T060000Z
DTEND:20260531T190000Z
SUMMARY:50 Jahre IWL – Menschen stark machen. Damals, heute, immer.
DESCRIPTION:Die Ausstellung im FAT CAT zeigt Porträts und Geschichten von IWL-Mitarbeitenden zum 50-Jahre-Jubiläum.\n\nhttps://eventfrog.de/de/p/kunst-ausstellungen/ausstellung/50-jahre-iwl-menschen-stark-machen-damals-heute-immer-7450102583530627444.html
LOCATION:FAT CAT München
GEO:48.131422;11.592500
URL:https://eventfrog.de/de/p/kunst-ausstellungen/ausstellung/50-jahre-iwl-menschen-stark-machen-damals-heute-immer-7450102583530627444.html
END:VEVENT
END:VCALENDAR