BEGIN:VCALENDAR
VERSION:2.0
PRODID:EVENTFROG//EVENT//ICAL
BEGIN:VEVENT
UID:20260419T125906Z-7450119580171639893@eventfrog.de
DTSTAMP:20260419T125906Z
DTSTART:20260613T153000Z
DTEND:20260613T174500Z
SUMMARY:Düsseldorfs neues Dating Event (40–50 J.) – Achtsames Dating
DESCRIPTION:Offline Dating, das gut tut! Achtsames Dating ist ein neues Kennenlern-Konzept, das sich am Speed Dating orientiert, aber den Fokus auf Interaktionen und spielerische gemeinsame Übungen legt. \n\nhttps://eventfrog.de/de/p/dating/speed-dating/duesseldorfs-neues-dating-event-4050-j-achtsames-dating-7450119580171639893.html
LOCATION:VAYU yoga and more
GEO:51.237384;6.784067
URL:https://eventfrog.de/de/p/dating/speed-dating/duesseldorfs-neues-dating-event-4050-j-achtsames-dating-7450119580171639893.html
END:VEVENT
END:VCALENDAR