BEGIN:VCALENDAR
VERSION:2.0
PRODID:EVENTFROG//EVENT//ICAL
BEGIN:VEVENT
UID:20260421T180335Z-7450135780641533037@eventfrog.de
DTSTAMP:20260421T180335Z
DTSTART:20260527T083000Z
DTEND:20260527T090000Z
SUMMARY:Qigong zur Selbstfürsorge im Sitzen
DESCRIPTION:Mit einfachen Qigong-Übungen im Sitzen wecken Sie Frühlingsenergie und fördern Gesundheit ohne Vorkenntnisse.\n\nhttps://eventfrog.de/de/p/gesundheit-spiritualitaet/gesundheit-wohlbefinden/qigong-zur-selbstfuersorge-im-sitzen-7450135780641533037.html
LOCATION:Kap Europa, Frankfurt a.M. auf der Sport & Musik-Bühne
GEO:50.109966;8.653981
URL:https://eventfrog.de/de/p/gesundheit-spiritualitaet/gesundheit-wohlbefinden/qigong-zur-selbstfuersorge-im-sitzen-7450135780641533037.html
END:VEVENT
END:VCALENDAR