BEGIN:VCALENDAR
VERSION:2.0
PRODID:EVENTFROG//EVENT//ICAL
BEGIN:VEVENT
UID:20260421T133925Z-7450163617104702959@eventfrog.de
DTSTAMP:20260421T133925Z
DTSTART:20260718T120000Z
DTEND:20260718T143000Z
SUMMARY:Münchens neues Dating Event (30–40 J.) – Achtsames Dating
DESCRIPTION:Achtsames Dating in München, 35-45 Jahre. In einem ruhigen Raum begegnet ihr euch spielerisch & authentisch – ohne Swipen, sondern mit echter Verbindung. DIE Alternative zum klassischen Speed Dating. \n\nhttps://eventfrog.de/de/p/dating/speed-dating/muenchens-neues-dating-event-3040-j-achtsames-dating-7450163617104702959.html
LOCATION:YOGASHALA - Iyengar Yoga München
GEO:48.133309;11.569149
URL:https://eventfrog.de/de/p/dating/speed-dating/muenchens-neues-dating-event-3040-j-achtsames-dating-7450163617104702959.html
END:VEVENT
END:VCALENDAR