BEGIN:VCALENDAR
VERSION:2.0
PRODID:EVENTFROG//EVENT//ICAL
BEGIN:VEVENT
UID:20260424T080344Z-7450172481011208381@eventfrog.de
DTSTAMP:20260424T080344Z
DTSTART:20260517T090000Z
DTEND:20260517T094500Z
SUMMARY:Messe "Juchzed und singed" von Peter Roth
DESCRIPTION:Gesungen wird die Messe "Juchzed und singed" von Peter Roth, begleitet von einem Ensemble mit Hackbrett und der Solosopranistin Daniela Eaton. Teile der Messe erklingen im Gottesdienst um 9.30 Uhr.\n\nhttps://eventfrog.de/de/p/konzerte/chor/messe-juchzed-und-singed-von-peter-roth-7450172481011208381.html
LOCATION:Reformierte Kirche
GEO:47.365721;8.365918
URL:https://eventfrog.de/de/p/konzerte/chor/messe-juchzed-und-singed-von-peter-roth-7450172481011208381.html
END:VEVENT
END:VCALENDAR