BEGIN:VCALENDAR
VERSION:2.0
PRODID:EVENTFROG//EVENT//ICAL
BEGIN:VEVENT
UID:20260424T083143Z-7450174053560629924@eventfrog.de
DTSTAMP:20260424T083143Z
DTSTART:20260513T173000Z
DTEND:20260513T213000Z
SUMMARY:mETHalnight 2026
DESCRIPTION:Am 13. Mai spielen die Schweizer Metal-Bands Heathen Heretic, Final Story und Fear Lab an der ETH Zürich, CAB F21.\n\nhttps://eventfrog.de/de/p/konzerte/hard-rock-heavy-metal/methalnight-2026-7450174053560629924.html
LOCATION:ETH Zürich, Gebäude CAB, Raum F21
GEO:47.378335;8.548527
URL:https://eventfrog.de/de/p/konzerte/hard-rock-heavy-metal/methalnight-2026-7450174053560629924.html
END:VEVENT
END:VCALENDAR