BEGIN:VCALENDAR
VERSION:2.0
PRODID:EVENTFROG//EVENT//ICAL
BEGIN:VEVENT
UID:20260424T101257Z-7450185752854401217@eventfrog.de
DTSTAMP:20260424T101257Z
DTSTART:20260530T091500Z
DTEND:20260530T103000Z
SUMMARY:Flow & Performance: The Menstrual Cycle in Sport with Amélie
DESCRIPTION:Amélie Bertschy zeigt in einem Workshop, wie der Menstruationszyklus Energie und Leistung als wandelbare Ressourcen formt.\n\nhttps://eventfrog.de/en/p/health-spirituality/health-wellbeing/flow-performance-the-menstrual-cycle-in-sport-with-amelie-7450185752854401217.html
LOCATION:Labör
GEO:47.410852;8.538635
URL:https://eventfrog.de/en/p/health-spirituality/health-wellbeing/flow-performance-the-menstrual-cycle-in-sport-with-amelie-7450185752854401217.html
END:VEVENT
END:VCALENDAR