BEGIN:VCALENDAR
VERSION:2.0
PRODID:EVENTFROG//EVENT//ICAL
BEGIN:VEVENT
UID:20260424T101258Z-7450190785637546590@eventfrog.de
DTSTAMP:20260424T101258Z
DTSTART:20260531T120000Z
DTEND:20260531T140000Z
SUMMARY:Körper- und Selbstbild im Wandel des Zyklus
DESCRIPTION:Andrea Kuster und Livia Küng zeigen, wie der Zyklus das Körperbild prägt und fördern einen bewussten Umgang damit.\n\nhttps://eventfrog.de/en/p/health-spirituality/health-wellbeing/koerper-und-selbstbild-im-wandel-des-zyklus-7450190785637546590.html
LOCATION:Labör
GEO:47.410852;8.538635
URL:https://eventfrog.de/en/p/health-spirituality/health-wellbeing/koerper-und-selbstbild-im-wandel-des-zyklus-7450190785637546590.html
END:VEVENT
END:VCALENDAR