BEGIN:VCALENDAR
VERSION:2.0
PRODID:EVENTFROG//EVENT//ICAL
BEGIN:VEVENT
UID:20260424T105820Z-7450207321962115536@eventfrog.de
DTSTAMP:20260424T105820Z
DTSTART:20260902T180000Z
DTEND:20260902T191500Z
SUMMARY:PILZ-X  Premiere
DESCRIPTION:Inspiriert von der Symbiose der Pilze verweben sich Musik und Lichtkunst zu einem lebendigen Gefüge. Die Vernetzung des Lebens – zum Hören, Sehen & Schmecken.\n\nhttps://eventfrog.de/de/p/diverses/pilz-x-premiere-7450207321962115536.html
LOCATION:5000 Aarau Laurenzenvorstadt 117 Zobristkeller
GEO:47.393839;8.053783
URL:https://eventfrog.de/de/p/diverses/pilz-x-premiere-7450207321962115536.html
END:VEVENT
END:VCALENDAR