BEGIN:VCALENDAR
VERSION:2.0
PRODID:EVENTFROG//EVENT//ICAL
BEGIN:VEVENT
UID:20260424T213818Z-7450228900754415382@eventfrog.de
DTSTAMP:20260424T213818Z
DTSTART:20260524T180000Z
DTEND:20260525T000000Z
SUMMARY:WILD SESSION
DESCRIPTION:Erlebe am 24.05. im Loft Club Thun eine Nacht mit House-Beats von Farone, Ray Thomas und Lareka sowie gratis Apero von 20-21 Uhr.\n\nhttps://eventfrog.de/de/p/partys/house-techno/wild-session-7450228900754415382.html
LOCATION:Loft Thun
GEO:46.798530;8.533949
URL:https://eventfrog.de/de/p/partys/house-techno/wild-session-7450228900754415382.html
END:VEVENT
END:VCALENDAR