BEGIN:VCALENDAR
VERSION:2.0
PRODID:EVENTFROG//EVENT//ICAL
BEGIN:VEVENT
UID:20260421T124109Z-7450240560999194395@eventfrog.de
DTSTAMP:20260421T124109Z
DTSTART:20260424T150000Z
DTEND:20260424T180000Z
SUMMARY:Our Shift
DESCRIPTION:«Our Shift» am 24. April 2026 in Freising bietet einen Nachmittag zur Entspannung und Nervensystemregulation mit Franzi, Britta & Kaltrina.\n\nhttps://eventfrog.de/de/p/gesundheit-spiritualitaet/gesundheit-wohlbefinden/our-shift-7450240560999194395.html
LOCATION:Haus der Vereine
GEO:48.407237;11.741102
URL:https://eventfrog.de/de/p/gesundheit-spiritualitaet/gesundheit-wohlbefinden/our-shift-7450240560999194395.html
END:VEVENT
END:VCALENDAR