BEGIN:VCALENDAR
VERSION:2.0
PRODID:EVENTFROG//EVENT//ICAL
BEGIN:VEVENT
UID:20260420T173302Z-7450274034967683626@eventfrog.de
DTSTAMP:20260420T173302Z
DTSTART:20260425T200000Z
DTEND:20260426T033000Z
SUMMARY:Into Nirvana
DESCRIPTION:Into Nirvana veranstaltet am 25.04. ab 22 Uhr einen Rave in Köln-Ehrenfeld, ab 18 Jahren, Eintritt 13.\n\nhttps://eventfrog.de/de/p/partys/house-techno/into-nirvana-7450274034967683626.html
LOCATION:EskiDandy
GEO:50.949105;6.896330
URL:https://eventfrog.de/de/p/partys/house-techno/into-nirvana-7450274034967683626.html
END:VEVENT
END:VCALENDAR