BEGIN:VCALENDAR
VERSION:2.0
PRODID:EVENTFROG//EVENT//ICAL
BEGIN:VEVENT
UID:20260425T230340Z-7450275873914129871@eventfrog.de
DTSTAMP:20260425T230340Z
DTSTART:20260627T080000Z
DTEND:20260627T150000Z
SUMMARY:Alex Janzen - Look & Learn
DESCRIPTION:Im Workshop zeigt Alex präzises Haareschneiden und Fading live an Modellen und erklärt die Techniken verständlich.\n\nhttps://eventfrog.de/de/p/kurse-seminare/berufliche-bildung/alex-janzen-look-learn-7450275873914129871.html
LOCATION:BARBERKAAN
GEO:47.206700;7.536289
URL:https://eventfrog.de/de/p/kurse-seminare/berufliche-bildung/alex-janzen-look-learn-7450275873914129871.html
END:VEVENT
END:VCALENDAR