BEGIN:VCALENDAR
VERSION:2.0
PRODID:EVENTFROG//EVENT//ICAL
BEGIN:VEVENT
UID:20260419T182110Z-7450301465124413996@eventfrog.de
DTSTAMP:20260419T182110Z
DTSTART:20260506T130000Z
SUMMARY:Jazzy – Chaos im Regenwald
DESCRIPTION:Animation von Tim Harper.\n\nhttps://eventfrog.de/de/p/freizeit-ausfluege/jazzy-chaos-im-regenwald-7450301465124413996.html
LOCATION:Kino Rosental
GEO:47.442578;9.533443
URL:https://eventfrog.de/de/p/freizeit-ausfluege/jazzy-chaos-im-regenwald-7450301465124413996.html
END:VEVENT
END:VCALENDAR