BEGIN:VCALENDAR
VERSION:2.0
PRODID:EVENTFROG//EVENT//ICAL
BEGIN:VEVENT
UID:20260420T021323Z-7450303517791653529@eventfrog.de
DTSTAMP:20260420T021323Z
DTSTART:20260504T173000Z
SUMMARY:Zangha (Winti)
DESCRIPTION:Zangha (Winti)\n\nhttps://eventfrog.de/de/p/konzerte/zangha-winti-7450303517791653529.html
LOCATION:Portier
GEO:47.495799;8.718806
URL:https://eventfrog.de/de/p/konzerte/zangha-winti-7450303517791653529.html
END:VEVENT
END:VCALENDAR