BEGIN:VCALENDAR
VERSION:2.0
PRODID:EVENTFROG//EVENT//ICAL
BEGIN:VEVENT
UID:20260424T065522Z-7450303517963619994@eventfrog.de
DTSTAMP:20260424T065522Z
DTSTART:20260511T173000Z
SUMMARY:Dorian Green
DESCRIPTION:Dorian Green\n\nhttps://eventfrog.de/de/p/konzerte/dorian-green-7450303517963619994.html
LOCATION:Portier
GEO:47.495799;8.718806
URL:https://eventfrog.de/de/p/konzerte/dorian-green-7450303517963619994.html
END:VEVENT
END:VCALENDAR