BEGIN:VCALENDAR
VERSION:2.0
PRODID:EVENTFROG//EVENT//ICAL
BEGIN:VEVENT
UID:20260424T065526Z-7450303518156557980@eventfrog.de
DTSTAMP:20260424T065526Z
DTSTART:20260518T173000Z
SUMMARY:Haimos
DESCRIPTION:Haimos\n\nhttps://eventfrog.de/de/p/konzerte/haimos-7450303518156557980.html
LOCATION:Portier
GEO:47.495799;8.718806
URL:https://eventfrog.de/de/p/konzerte/haimos-7450303518156557980.html
END:VEVENT
END:VCALENDAR