BEGIN:VCALENDAR
VERSION:2.0
PRODID:EVENTFROG//EVENT//ICAL
BEGIN:VEVENT
UID:20260421T031341Z-7450434765885332825@eventfrog.de
DTSTAMP:20260421T031341Z
DTSTART:20260426T080000Z
DTEND:20260426T140000Z
SUMMARY:5. Geislarer Haus-Trödelmarkt am 26. April 2026
DESCRIPTION:Am 26.4. laden über 100 Teilnehmende in Geislar zum 5. Haus-Trödelmarkt mit Rahmenprogramm und Maibaumschmücken ein.\n\nhttps://eventfrog.de/de/p/maerkte/flohmarkt/5-geislarer-haus-troedelmarkt-am-26-april-2026-7450434765885332825.html
LOCATION:Oberdorfstraße 20c
GEO:50.761965;7.126831
URL:https://eventfrog.de/de/p/maerkte/flohmarkt/5-geislarer-haus-troedelmarkt-am-26-april-2026-7450434765885332825.html
END:VEVENT
END:VCALENDAR