BEGIN:VCALENDAR
VERSION:2.0
PRODID:EVENTFROG//EVENT//ICAL
BEGIN:VEVENT
UID:20260420T071732Z-7450465229396247540@eventfrog.de
DTSTAMP:20260420T071732Z
DTSTART:20260430T180000Z
DTEND:20260501T000000Z
SUMMARY:Tanz in den Mai   Livemusik Tom & Andy mit Steffi
DESCRIPTION:Tanzveranstaltung mit Livemusik\n\nhttps://eventfrog.de/de/p/partys/pop-rock/tanz-in-den-mai-livemusik-tom-andy-mit-steffi-7450465229396247540.html
LOCATION:Stadthalle am Nollen
GEO:48.407393;8.014263
URL:https://eventfrog.de/de/p/partys/pop-rock/tanz-in-den-mai-livemusik-tom-andy-mit-steffi-7450465229396247540.html
END:VEVENT
END:VCALENDAR