BEGIN:VCALENDAR
VERSION:2.0
PRODID:EVENTFROG//EVENT//ICAL
BEGIN:VEVENT
UID:20260424T084716Z-7450493721223627333@eventfrog.de
DTSTAMP:20260424T084716Z
DTSTART:20260530T100000Z
DTEND:20260530T140000Z
SUMMARY:Gourmet-Tasting: Entdecken Sie neue Lachsdelikatessen
DESCRIPTION:Erleben Sie einen exklusiven Gourmet-Nachmittag mit feinen Tastings, guter Gesellschaft und genussvollen Entdeckungen.\n\nhttps://eventfrog.de/de/p/essen-trinken/gourmet-tasting-entdecken-sie-neue-lachsdelikatessen-7450493721223627333.html
LOCATION:Swiss Lachs Erstfeld
GEO:46.834338;8.646335
URL:https://eventfrog.de/de/p/essen-trinken/gourmet-tasting-entdecken-sie-neue-lachsdelikatessen-7450493721223627333.html
END:VEVENT
END:VCALENDAR