BEGIN:VCALENDAR
VERSION:2.0
PRODID:EVENTFROG//EVENT//ICAL
BEGIN:VEVENT
UID:20260424T031154Z-7450523534059641574@eventfrog.de
DTSTAMP:20260424T031154Z
DTSTART:20260529T123000Z
DTEND:20260529T200000Z
SUMMARY:Eintracht in der Region
DESCRIPTION:Ehemalige Bundesligaspieler hautnah\nSportevent für die ganze Familie \n\nhttps://eventfrog.de/de/p/sport-fitness/fussball/eintracht-in-der-region-7450523534059641574.html
LOCATION:Sportgelände
GEO:49.919545;9.785543
URL:https://eventfrog.de/de/p/sport-fitness/fussball/eintracht-in-der-region-7450523534059641574.html
END:VEVENT
END:VCALENDAR