BEGIN:VCALENDAR
VERSION:2.0
PRODID:EVENTFROG//EVENT//ICAL
BEGIN:VEVENT
UID:20260424T092147Z-7450530204953367566@eventfrog.de
DTSTAMP:20260424T092147Z
DTSTART:20260516T163000Z
DTEND:20260517T020000Z
SUMMARY:Ansichtssache’s Bash Bash Bingo
DESCRIPTION:Ein verspielter Bingoabend im KLARA Basel mit Abendessen, Apero und vier spannenden Bingorunden mit tollen Preisen. Für 55 CHF erwartet dich ein unterhaltsames Event inklusive Afterparty-Eintritt.\n\nhttps://eventfrog.de/en/p/eating-drinking/ansichtssaches-bash-bash-bingo-7450530204953367566.html
LOCATION:Klara Basel
GEO:47.562434;7.595521
URL:https://eventfrog.de/en/p/eating-drinking/ansichtssaches-bash-bash-bingo-7450530204953367566.html
END:VEVENT
END:VCALENDAR