BEGIN:VCALENDAR
VERSION:2.0
PRODID:EVENTFROG//EVENT//ICAL
BEGIN:VEVENT
UID:20260419T143140Z-7450543610611674138@eventfrog.de
DTSTAMP:20260419T143140Z
DTSTART:20260430T170000Z
DTEND:20260430T183000Z
SUMMARY:Singkreis "Circle of joy" mit Sängerin Sabine van Baaren
DESCRIPTION:Monatlicher Singkreis in Köln mit Sängerin Sabine van Baaren: Gemeinsames Singen öffnet Raum für Freude und Heilung. Keine Vorkenntnisse nötig."Ich möchte dieses Erlebnis nicht mehr missen! „Uschi B.\n\n\nhttps://eventfrog.de/de/p/gesundheit-spiritualitaet/wellness/singkreis-circle-of-joy-mit-saengerin-sabine-van-baaren-7450543610611674138.html
LOCATION:Kallias Köstlichkeiten
GEO:50.969867;6.976304
URL:https://eventfrog.de/de/p/gesundheit-spiritualitaet/wellness/singkreis-circle-of-joy-mit-saengerin-sabine-van-baaren-7450543610611674138.html
END:VEVENT
END:VCALENDAR