BEGIN:VCALENDAR
VERSION:2.0
PRODID:EVENTFROG//EVENT//ICAL
BEGIN:VEVENT
UID:20260424T083230Z-7450548131601640962@eventfrog.de
DTSTAMP:20260424T083230Z
DTSTART:20261002T080000Z
DTEND:20261002T150000Z
SUMMARY:Versorgt. Verdingt. Vergessen?
DESCRIPTION:Die Schau erlaubt einen vielstimmigen und zugleich wissenschaftlich fundierten Zugang zu diesem Kapitel der Schweizer Geschichte, welches das Leben von vielen Menschen stark geprägt hat.\n\nhttps://eventfrog.de/de/p/kunst-ausstellungen/ausstellung/versorgt-verdingt-vergessen-7450548131601640962.html
LOCATION:Museum Luzern
GEO:47.051683;8.301061
URL:https://eventfrog.de/de/p/kunst-ausstellungen/ausstellung/versorgt-verdingt-vergessen-7450548131601640962.html
END:VEVENT
END:VCALENDAR