BEGIN:VCALENDAR
VERSION:2.0
PRODID:EVENTFROG//EVENT//ICAL
BEGIN:VEVENT
UID:20260424T065527Z-7450549088070699199@eventfrog.de
DTSTAMP:20260424T065527Z
DTSTART:20260528T150000Z
DTEND:20260528T180000Z
SUMMARY:Museumsdonnerstag
DESCRIPTION:Erkunden Sie in aller Ruhe die Ausstellungen und nehmen Sie an einer unserer vielfältigen Veranstaltungen teil.\n\nhttps://eventfrog.de/de/p/kunst-ausstellungen/weitere-kunstveranstaltungen/museumsdonnerstag-7450549088070699199.html
LOCATION:Museum Luzern
GEO:47.051683;8.301061
URL:https://eventfrog.de/de/p/kunst-ausstellungen/weitere-kunstveranstaltungen/museumsdonnerstag-7450549088070699199.html
END:VEVENT
END:VCALENDAR