BEGIN:VCALENDAR
VERSION:2.0
PRODID:EVENTFROG//EVENT//ICAL
BEGIN:VEVENT
UID:20260420T012749Z-7450554959228083051@eventfrog.de
DTSTAMP:20260420T012749Z
DTSTART:20260423T170000Z
DTEND:20260423T190000Z
SUMMARY:Dort wo keine Tür ist. Ein Gespräch mit Logan February
DESCRIPTION:Logan February verknüpft Poesie und Reflexion über eine verborgene Yorùbá-Tür im Humboldt Forum und das indigene Wissen dahinter.\n\nhttps://eventfrog.de/de/p/fuehrungen-vortraege/vortrag/dort-wo-keine-tuer-ist-ein-gespraech-mit-logan-february-7450554959228083051.html
LOCATION:Humboldt Forum
GEO:52.517275;13.401640
URL:https://eventfrog.de/de/p/fuehrungen-vortraege/vortrag/dort-wo-keine-tuer-ist-ein-gespraech-mit-logan-february-7450554959228083051.html
END:VEVENT
END:VCALENDAR