BEGIN:VCALENDAR
VERSION:2.0
PRODID:EVENTFROG//EVENT//ICAL
BEGIN:VEVENT
UID:20260421T163246Z-7450555097120034570@eventfrog.de
DTSTAMP:20260421T163246Z
DTSTART:20260430T210000Z
DTEND:20260501T030000Z
SUMMARY:RETRO CLASH Tanz in den Mai // 30.04.2026 Klub Domhof
DESCRIPTION:DJ Tricky Martin spielt zum Tanz in den Mai Retro-Hits mit Mario Kart, Quiz und Candybar für Studierende und Friends.\n\nhttps://eventfrog.de/de/p/partys/90-s/retro-clash-tanz-in-den-mai-30-04-2026-klub-domhof-7450555097120034570.html
LOCATION:Klub Domhof
GEO:50.941583;6.959946
URL:https://eventfrog.de/de/p/partys/90-s/retro-clash-tanz-in-den-mai-30-04-2026-klub-domhof-7450555097120034570.html
END:VEVENT
END:VCALENDAR