BEGIN:VCALENDAR
VERSION:2.0
PRODID:EVENTFROG//EVENT//ICAL
BEGIN:VEVENT
UID:20260425T144707Z-7450566162537026565@eventfrog.de
DTSTAMP:20260425T144707Z
DTSTART:20260426T130000Z
DTEND:20260426T150000Z
SUMMARY:Sparkle & Sip
DESCRIPTION:Lust auf ein funkelndes Armband mit echter Bedeutung? Gestalte aus hochwertigen Edelsteinen dein ganz persönliches Lieblingsstück!\n\nhttps://eventfrog.de/de/p/kurse-seminare/freizeit-hobby/sparkle-sip-7450566162537026565.html
LOCATION:PopUp Rothenburg
GEO:49.376997;10.181348
URL:https://eventfrog.de/de/p/kurse-seminare/freizeit-hobby/sparkle-sip-7450566162537026565.html
END:VEVENT
END:VCALENDAR