BEGIN:VCALENDAR
VERSION:2.0
PRODID:EVENTFROG//EVENT//ICAL
BEGIN:VEVENT
UID:20260420T120315Z-7450569070850631841@eventfrog.de
DTSTAMP:20260420T120315Z
DTSTART:20260430T150000Z
DTEND:20260430T170000Z
SUMMARY:KNIT&MEET Community Strickevent: Reading Edition
DESCRIPTION:KNIT&MEET Community Strickevent: Reading Edition ist ein kuratierter Strickabend im LX Café mit portugiesischen Vibes, mit einem besonderen Programm rund ums Stricken und Häkeln\n\nhttps://eventfrog.de/de/p/freizeit-ausfluege/gruppen-spiele/knit-meet-community-strickevent-reading-edition-7450569070850631841.html
LOCATION:Schwarte Buch & Café
GEO:50.079260;8.226325
URL:https://eventfrog.de/de/p/freizeit-ausfluege/gruppen-spiele/knit-meet-community-strickevent-reading-edition-7450569070850631841.html
END:VEVENT
END:VCALENDAR