BEGIN:VCALENDAR
VERSION:2.0
PRODID:EVENTFROG//EVENT//ICAL
BEGIN:VEVENT
UID:20260421T095038Z-7450581285959918743@eventfrog.de
DTSTAMP:20260421T095038Z
DTSTART:20260607T170000Z
DTEND:20260607T183000Z
SUMMARY:Gospelrock live
DESCRIPTION:Das Livekonzert mit rund 20 Sängerinnen und Sängern aus Erfurt und Thüringen, Band mit Drums, E-A Git, Bass, Piano und Andi Kuch in der Chorleitung dauert etwa 90 Minuten. \n\nhttps://eventfrog.de/de/p/konzerte/chor/gospelrock-live-7450581285959918743.html
LOCATION:Kaufmannskirche
GEO:50.977996;11.035097
URL:https://eventfrog.de/de/p/konzerte/chor/gospelrock-live-7450581285959918743.html
END:VEVENT
END:VCALENDAR