BEGIN:VCALENDAR
VERSION:2.0
PRODID:EVENTFROG//EVENT//ICAL
BEGIN:VEVENT
UID:20260421T081748Z-7450602050398733064@eventfrog.de
DTSTAMP:20260421T081748Z
DTSTART:20261024T180000Z
SUMMARY:Simon Chen – ER WILL NUR SPIELEN
DESCRIPTION:«Grüezi! Händ sie min Hund gseh?»\nIn seinem fünften Programm geht Simon Chen raus und setzt seine Figuren dem Hier und Heute aus; witzig, kritisch und bissig. Herrchen geht Gassi. \n\nhttps://eventfrog.de/de/p/theater-buehne/comedy-kabarett/simon-chen-er-will-nur-spielen-7450602050398733064.html
LOCATION:Chollerhalle Zug
GEO:47.181587;8.483803
URL:https://eventfrog.de/de/p/theater-buehne/comedy-kabarett/simon-chen-er-will-nur-spielen-7450602050398733064.html
END:VEVENT
END:VCALENDAR