BEGIN:VCALENDAR
VERSION:2.0
PRODID:EVENTFROG//EVENT//ICAL
BEGIN:VEVENT
UID:20260422T193901Z-7450659597973474394@eventfrog.de
DTSTAMP:20260422T193901Z
DTSTART:20260425T120000Z
DTEND:20260425T140000Z
SUMMARY:Tanz in den Mai im Kräutergarten
DESCRIPTION:Im Kräutergarten Urban in Whyl (bei Freiburg) bieten Volkstänze mit Elke Pfründer am 25.4. von 14-16 Uhr Erholung, Natur und Genuss.\n\nhttps://eventfrog.de/de/p/kurse-seminare/musik-tanz/tanz-in-den-mai-im-kraeutergarten-7450659597973474394.html
LOCATION:Kräutergarten Urban
GEO:48.160650;7.673189
URL:https://eventfrog.de/de/p/kurse-seminare/musik-tanz/tanz-in-den-mai-im-kraeutergarten-7450659597973474394.html
END:VEVENT
END:VCALENDAR