BEGIN:VCALENDAR
VERSION:2.0
PRODID:EVENTFROG//EVENT//ICAL
BEGIN:VEVENT
UID:20260421T163249Z-7450772888053919307@eventfrog.de
DTSTAMP:20260421T163249Z
DTSTART:20260611T153000Z
DTEND:20260611T200000Z
SUMMARY:Kneipenquiz Forsthaus Bückeburg "Ready To Buzz"
DESCRIPTION:Erlebt das neue digitale Kneipenquiz mit Quizmaster Carsten. Bildet Teams, beantwortet Fragen per Tablet oder Laptop und seid schneller als die anderen. Mehr Info: www.readytobuzz.com\n\nhttps://eventfrog.de/de/p/freizeit-ausfluege/gruppen-spiele/kneipenquiz-forsthaus-bueckeburg-ready-to-buzz-7450772888053919307.html
LOCATION:Das Forsthaus
GEO:52.254848;9.060745
URL:https://eventfrog.de/de/p/freizeit-ausfluege/gruppen-spiele/kneipenquiz-forsthaus-bueckeburg-ready-to-buzz-7450772888053919307.html
END:VEVENT
END:VCALENDAR