BEGIN:VCALENDAR
VERSION:2.0
PRODID:EVENTFROG//EVENT//ICAL
BEGIN:VEVENT
UID:20260420T174219Z-7450861688721536798@eventfrog.de
DTSTAMP:20260420T174219Z
DTSTART:20261029T170000Z
DTEND:20261029T180000Z
SUMMARY:Vortragsreihe zur mentalen Gesundheit
DESCRIPTION:Sechsteilige Vortragsreihe von Mentaltrainerin Silke Meier, wie man sorgenfreier und entspannter leben kann.\n\nhttps://eventfrog.de/de/p/gesundheit-spiritualitaet/gesundheit-wohlbefinden/vortragsreihe-zur-mentalen-gesundheit-7450861688721536798.html
LOCATION:"BEST für alle" Ahrensburg e.V.
GEO:47.751074;-120.740139
URL:https://eventfrog.de/de/p/gesundheit-spiritualitaet/gesundheit-wohlbefinden/vortragsreihe-zur-mentalen-gesundheit-7450861688721536798.html
END:VEVENT
END:VCALENDAR