BEGIN:VCALENDAR
VERSION:2.0
PRODID:EVENTFROG//EVENT//ICAL
BEGIN:VEVENT
UID:20260420T002356Z-7450889724187664063@eventfrog.de
DTSTAMP:20260420T002356Z
DTSTART:20260725T100500Z
DTEND:20260725T150100Z
SUMMARY:Erlebnisrundfahrt Ostschweiz
DESCRIPTION:Entdecken Sie die Ostschweiz aus zwei verschiedenen Perspektiven: vom Wasser und vom Land.\n\nhttps://eventfrog.de/de/p/freizeit-ausfluege/ausflug/erlebnisrundfahrt-ostschweiz-7450889724187664063.html
LOCATION:Hafen Romanshorn
GEO:47.564570;9.380650
URL:https://eventfrog.de/de/p/freizeit-ausfluege/ausflug/erlebnisrundfahrt-ostschweiz-7450889724187664063.html
END:VEVENT
END:VCALENDAR