BEGIN:VCALENDAR
VERSION:2.0
PRODID:EVENTFROG//EVENT//ICAL
BEGIN:VEVENT
UID:20260421T180250Z-7450923268599447768@eventfrog.de
DTSTAMP:20260421T180250Z
DTSTART:20260812T123000Z
DTEND:20260812T203000Z
SUMMARY:Dinner in the Sky Köln
DESCRIPTION:Dinner in the Sky kombiniert beste Kulinarik mit 360-Grad-Panorama in Köln, Düsseldorf und Hamburg - ein unvergessliches Erlebnis 2026.\n\nhttps://eventfrog.de/de/p/essen-trinken/dinner-in-the-sky-koeln-7450923268599447768.html
LOCATION:MediaPark
GEO:50.947783;6.943199
URL:https://eventfrog.de/de/p/essen-trinken/dinner-in-the-sky-koeln-7450923268599447768.html
END:VEVENT
END:VCALENDAR