BEGIN:VCALENDAR
VERSION:2.0
PRODID:EVENTFROG//EVENT//ICAL
BEGIN:VEVENT
UID:20260421T173256Z-7450923318167739353@eventfrog.de
DTSTAMP:20260421T173256Z
DTSTART:20260829T070000Z
DTEND:20260829T150000Z
SUMMARY:Jubiläumskongress Fibromyalgie und Schmerz
DESCRIPTION:Gesundheitskongress\n\nhttps://eventfrog.de/de/p/gesundheit-spiritualitaet/selbsthilfegruppe/jubilaeumskongress-fibromyalgie-und-schmerz-7450923318167739353.html
LOCATION:Saarlouis
GEO:49.313461;6.752286
URL:https://eventfrog.de/de/p/gesundheit-spiritualitaet/selbsthilfegruppe/jubilaeumskongress-fibromyalgie-und-schmerz-7450923318167739353.html
END:VEVENT
END:VCALENDAR